BEGIN:VCALENDAR
VERSION:2.0
PRODID:-//ChamberMaster//Event Calendar 2.0//EN
METHOD:PUBLISH
X-PUBLISHED-TTL:P3D
REFRESH-INTERVAL:P3D
CALSCALE:GREGORIAN
BEGIN:VEVENT
DTSTART;VALUE=DATE:20200221
DTEND;VALUE=DATE:20200223
TRANSP:TRANSPARENT
X-MICROSOFT-CDO-ALLDAYEVENT:TRUE
SUMMARY:Lions club pickleball tournament
DESCRIPTION:Bring your own partner\, mens and women's doubles Friday\, mixed doubles Saturday.\n\nEntry deadline Monday \, Feb. 17\, 2020.\n\n$30 per player/ per event. Find entry and sponsorship forms on Cleveland lions club Facebook page.
X-ALT-DESC;FMTTYPE=text/html:Bring your own partner\, mens and women&#39\;s doubles Friday\, mixed doubles Saturday.<br />\nEntry deadline Monday \, Feb. 17\, 2020.<br />\n$30 per player/ per event. Find entry and sponsorship forms on Cleveland lions club Facebook page.
LOCATION:Cleveland YMCA
UID:e.734.14859
SEQUENCE:3
DTSTAMP:20260421T140207Z
URL:https://cleveland-tn.clevelandchamber.com/events/details/lions-club-pickleball-tournament-14859
END:VEVENT

END:VCALENDAR
