BEGIN:VCALENDAR
VERSION:2.0
PRODID:-//ChamberMaster//Event Calendar 2.0//EN
METHOD:PUBLISH
X-PUBLISHED-TTL:P3D
REFRESH-INTERVAL:P3D
CALSCALE:GREGORIAN
BEGIN:VEVENT
DTSTART:20210624T140000Z
DTEND:20210624T180000Z
X-MICROSOFT-CDO-ALLDAYEVENT:FALSE
SUMMARY:Job Fair - Cleveland Associated Industries
DESCRIPTION:Job fair\, Thursday\, June 24\, 2021\, 10 a.m. to 2 p.m. at the Cleveland/Bradley Chamber of Commerce. \n\nThis could be the stepping stone to a brilliant career path. Bring your resume and network with the following potential employers: Hardwick Tactical\, Resolute Forest Products\, Whirlpool Corporation\, Newly Weds Foods\, WACKER\, Sigura\, Cormetech\, Duracell\, EATON\, Jackson Furniture/Catnapper and Mueller. \n\nPresented by Cleveland Associated Industries\, Setworks and American Job Center.
X-ALT-DESC;FMTTYPE=text/html:<p>Job fair\,&nbsp\;Thursday\, June 24\, 2021\, 10 a.m. to 2 p.m. at the Cleveland/Bradley Chamber of Commerce.&nbsp\;</p>\n\n<p>This could be the stepping stone to a brilliant career path. Bring your resume and network with the following potential employers:&nbsp\;Hardwick Tactical\, Resolute Forest Products\, Whirlpool Corporation\, Newly Weds Foods\, WACKER\, Sigura\, Cormetech\, Duracell\, EATON\, Jackson Furniture/Catnapper and Mueller.&nbsp\;</p>\n\n<p>Presented by Cleveland Associated Industries\, Setworks and American Job Center.&nbsp\;</p>\n
LOCATION:225 Keith St. SW\, Cleveland\, TN
UID:e.734.14986
SEQUENCE:3
DTSTAMP:20260421T220725Z
URL:https://cleveland-tn.clevelandchamber.com/events/details/job-fair-cleveland-associated-industries-14986
END:VEVENT

END:VCALENDAR
