BEGIN:VCALENDAR
VERSION:2.0
PRODID:-//ChamberMaster//Event Calendar 2.0//EN
METHOD:PUBLISH
X-PUBLISHED-TTL:P3D
REFRESH-INTERVAL:P3D
CALSCALE:GREGORIAN
BEGIN:VEVENT
DTSTART:20240928T150000Z
DTEND:20240928T190000Z
X-MICROSOFT-CDO-ALLDAYEVENT:FALSE
SUMMARY:Fall Fest 5K + Fun Run
DESCRIPTION:City Fields and Terra Running Co. hosts a 5k and Fun Run (1 mile walk) this fall in the Blythe Oldfield neighborhood for the first time ever. Following the 5K will be a Fall Festival in the Blythe Oldfield Park with food trucks\, vendors\, and fall festivities. Why run through this neighborhood? It's an opportunity to CONNECT with the past\, present\, and future. It's an opportunity to understand where Cleveland has been. To see the place that locals call "the neighborhood that built Cleveland. And to advocate for how this neighborhood can flourish within the City of Spirit into the future. Neighbor to neighbor\, over the fence\, across the street\, and across the tracks - let us take each other's hand and journey into the future as a connected community. All proceeds benefit City Fields and their work to cultivate overlooked neighborhoods. (Mash n' Hops participating in donating $1/pint of beer purchased on race day.)
X-ALT-DESC;FMTTYPE=text/html:City Fields and Terra Running Co. hosts a 5k and Fun Run (1 mile walk) this fall in the Blythe Oldfield neighborhood for the first time ever. Following the 5K will be a Fall Festival in the Blythe Oldfield Park with food trucks\, vendors\, and fall festivities. Why run through this neighborhood? It&#39\;s an opportunity to CONNECT with the past\, present\, and future. It&#39\;s an opportunity to understand where Cleveland has been. To see the place that locals call &quot\;the neighborhood that built Cleveland. And to advocate for how this neighborhood can flourish within the City of Spirit into the future. Neighbor to neighbor\, over the fence\, across the street\, and across the tracks - let us take each other&#39\;s hand and journey into the future as a connected community. All proceeds benefit City Fields and their work to cultivate overlooked neighborhoods. (Mash n&#39\; Hops participating in donating $1/pint of beer purchased on race day.)
LOCATION:1075 Blythe Avenue SE
UID:e.734.15739
SEQUENCE:3
DTSTAMP:20260422T150518Z
URL:https://cleveland-tn.clevelandchamber.com/events/details/fall-fest-5k-fun-run-15739
END:VEVENT

END:VCALENDAR
